BEGIN:VCALENDAR
VERSION:2.0
PRODID:-//ChamberMaster//Event Calendar 2.0//EN
METHOD:PUBLISH
X-PUBLISHED-TTL:P3D
REFRESH-INTERVAL:P3D
CALSCALE:GREGORIAN
BEGIN:VEVENT
DTSTART:20130327T210000Z
DTEND:20130327T220000Z
X-MICROSOFT-CDO-ALLDAYEVENT:FALSE
SUMMARY:New Member Orientation
DESCRIPTION:New Member Orientation to cover Membership Benefits\, Our Program of Work\, & a Demonstration of the Chamber Website & Member Login Tools
X-ALT-DESC;FMTTYPE=text/html:<p>\n	New Member Orientation to cover Membership Benefits\, Our Program of Work\, &amp\; a Demonstration of the Chamber Website &amp\; Member Login Tools</p>\n
LOCATION:The Chamber\, 1700 Sidney Baker St\, Suite 100\, Kerrville\, TX 78028
UID:e.1327.444
SEQUENCE:3
DTSTAMP:20260420T021201Z
URL:https://business.kerrvillechamber.biz/events/details/new-member-orientation-03-27-2013-444
END:VEVENT

END:VCALENDAR
