BEGIN:VCALENDAR
VERSION:2.0
PRODID:-//ChamberMaster//Event Calendar 2.0//EN
METHOD:PUBLISH
X-PUBLISHED-TTL:P3D
REFRESH-INTERVAL:P3D
CALSCALE:GREGORIAN
BEGIN:VEVENT
DTSTART:20130101T010000Z
DTEND:20130101T055500Z
X-MICROSOFT-CDO-ALLDAYEVENT:FALSE
SUMMARY:New Years Eve
DESCRIPTION:New Year's Eve Celebration with Ricky Adams Band
X-ALT-DESC;FMTTYPE=text/html:<p>\n	New Year&#39\;s Eve Celebration with Ricky Adams Band</p>\n
LOCATION:Buckhorn Lake Resort
UID:e.1327.450
SEQUENCE:3
DTSTAMP:20260420T055615Z
URL:https://business.kerrvillechamber.biz/events/details/new-years-eve-12-31-2012-450
END:VEVENT

END:VCALENDAR
