BEGIN:VCALENDAR
VERSION:2.0
PRODID:-//ChamberMaster//Event Calendar 2.0//EN
METHOD:PUBLISH
X-PUBLISHED-TTL:P3D
REFRESH-INTERVAL:P3D
CALSCALE:GREGORIAN
BEGIN:VEVENT
DTSTART:20130101T030000Z
DTEND:20130101T055500Z
X-MICROSOFT-CDO-ALLDAYEVENT:FALSE
SUMMARY:New Years Eve Celebration
DESCRIPTION:New Years Eve Celebration
X-ALT-DESC;FMTTYPE=text/html:New Years Eve Celebration
LOCATION:Inn Of The Hills
UID:e.1327.453
SEQUENCE:3
DTSTAMP:20260420T072439Z
URL:https://business.kerrvillechamber.biz/events/details/new-years-eve-celebration-12-31-2012-453
END:VEVENT

END:VCALENDAR
