BEGIN:VCALENDAR
VERSION:2.0
PRODID:-//ChamberMaster//Event Calendar 2.0//EN
METHOD:PUBLISH
X-PUBLISHED-TTL:P3D
REFRESH-INTERVAL:P3D
CALSCALE:GREGORIAN
BEGIN:VEVENT
DTSTART:20130203T210000Z
DTEND:20130203T230000Z
X-MICROSOFT-CDO-ALLDAYEVENT:FALSE
SUMMARY:Nikolai Massenkoff and the Russian Folk Festival
DESCRIPTION:With its combination of traditional balalaika musicians\, Russian folk dancers\, and the booming Baritone voice of Nikolai Massenkoff\, the Russian Folk Festival is a riot of traditional colors\, sounds and textures to dazzle all senses.\n\n	You're sure to enjoy this high-spirited celebration of Russian heritage! 830.896.9393 www.caillouxtheater.com\n\n	Cailloux Theater 910 Main Street\, Kerrville\, TX\, 78028\, (830) 896-9393
X-ALT-DESC;FMTTYPE=text/html:<p>\n	With its combination of traditional balalaika musicians\, Russian folk dancers\, and the booming Baritone voice of Nikolai Massenkoff\, the Russian Folk Festival is a riot of traditional colors\, sounds and textures to dazzle all senses.<br />\n	You&rsquo\;re sure to enjoy this high-spirited celebration of Russian heritage! 830.896.9393 <a class="external" href="http://www.caillouxtheater.com/" target="_blank">www.caillouxtheater.com</a></p>\n<p>\n	Cailloux Theater 910 Main Street\, Kerrville\, TX\, 78028\, (830) 896-9393</p>\n
LOCATION:
UID:e.1327.462
SEQUENCE:3
DTSTAMP:20260420T021902Z
URL:https://business.kerrvillechamber.biz/events/details/nikolai-massenkoff-and-the-russian-folk-festival-02-03-2013-462
END:VEVENT

END:VCALENDAR
