BEGIN:VCALENDAR
VERSION:2.0
PRODID:-//ChamberMaster//Event Calendar 2.0//EN
METHOD:PUBLISH
X-PUBLISHED-TTL:P3D
REFRESH-INTERVAL:P3D
CALSCALE:GREGORIAN
BEGIN:VEVENT
DTSTART:20131207T140000Z
DTEND:20131208T220000Z
X-MICROSOFT-CDO-ALLDAYEVENT:FALSE
SUMMARY:Oma's Christmas Fair
DESCRIPTION:Handcrafted/Handmade Merchandise Holiday Craft Show. Three Halls To Shop\, Food And Drink Concessions\, Photos And Visits With Santa\,Bake Sale\,Spinning Wheel Demonstrations\,Door Prizes\, Complementary Holiday Spiced Tea.
X-ALT-DESC;FMTTYPE=text/html:Handcrafted/Handmade Merchandise Holiday Craft Show. Three Halls To Shop\, Food And Drink Concessions\, Photos And Visits With Santa\,Bake Sale\,Spinning Wheel Demonstrations\,Door Prizes\, Complementary Holiday Spiced Tea.
LOCATION:Kendall County Fairgrounds Boerne\, Texas
UID:e.1327.1613
SEQUENCE:3
DTSTAMP:20260419T120556Z
URL:https://business.kerrvillechamber.biz/events/details/oma-s-christmas-fair-12-07-2013-1613
END:VEVENT

END:VCALENDAR
