BEGIN:VCALENDAR
VERSION:2.0
PRODID:-//ChamberMaster//Event Calendar 2.0//EN
METHOD:PUBLISH
X-PUBLISHED-TTL:P3D
REFRESH-INTERVAL:P3D
CALSCALE:GREGORIAN
BEGIN:VEVENT
DTSTART:20250614T160000Z
DTEND:20250614T190000Z
X-MICROSOFT-CDO-ALLDAYEVENT:FALSE
SUMMARY:Our Flag\, Our Community
DESCRIPTION:Join us for a Celebration of Our Flag\, Our Community\n\nJune 14\, 2025\n\nThis is  a celebration of our flag flags\, music\, food\, beverages\, and interesting conversations.\n\nStar Arts Park and Event Center. 4000 Riverside Dr\, Kerrville TX. 78028\n\nFlag Day is a holiday celebrated on June 14 in the United States. It commemorates the adoption of the flag of the United States on June 14\, 1777 by resolution of the Second Continental Congress.  In 1916\, President Woodrow Wilson issued a presidential proclamation that designated June 14 as Flag Day. On August 3\, 1949\, National Flag Day was officially established by an Act of Congress.\n\nOur Community\n\nClifton Fifer\, Kerr County Historian\n\nDoyle Community Center\n\nGunny's Warriors\n\nHill Country Crisis Council\n\nHill Country Council on Alcohol and Drug Abuse\, Inc\n\nImmigration Resources provided by Texas Immigration Law Council \n\nLeague of United Latin American Citizens\n\nPRIDE\n\nOur Entertainers\n\nClifton Fifer\n\nCarrie Land\n\nLynette Wedig\n\nOur Food\n\nEnjoy a La Tapatia Taco \n\nwith a cold soft drink\, beer\, wine\, or snow cone from our refreshment bar \n\nand\n\nFinger Food Catering for Desserts \n\n\n\n \n\n\n\n\nKerr County Democratic Party\n\n\n \n\n\n\n\n\n \n\nFree
X-ALT-DESC;FMTTYPE=text/html:<div>\n<p><strong><strong>Join us for a Celebration of&nbsp\;</strong></strong><strong><strong>Our Flag\, Our Community</strong></strong></p>\n\n<p><strong><strong>June 14\, 2025</strong></strong></p>\n\n<p><strong><strong>This is &nbsp\;a celebration of our flag&hellip\;</strong></strong><strong><strong>flags\, music\, food\, beverages\, and interesting conversations.</strong></strong></p>\n\n<p><strong><strong>Star Arts Park and Event Center. 4000 Riverside Dr\, Kerrville TX. 78028</strong></strong></p>\n\n<p>Flag Day is a holiday celebrated on June 14 in the United States. It commemorates the adoption of the&nbsp\;<a href="https://www.google.com/url?q=https://en.wikipedia.org/wiki/Flag_of_the_United_States&amp\;sa=D&amp\;source=calendar&amp\;usd=2&amp\;usg=AOvVaw1i0CJEH_KeXy-81UK-4jC_" style="color: var(--gm3-sys-color-primary)\;" target="_blank">flag of the United States</a>&nbsp\;on June 14\, 1777 by resolution of the&nbsp\;<a href="https://www.google.com/url?q=https://en.wikipedia.org/wiki/Continental_Congress&amp\;sa=D&amp\;source=calendar&amp\;usd=2&amp\;usg=AOvVaw0teIlHh1aRTwl0g2gDsfhl" style="color: var(--gm3-sys-color-primary)\;" target="_blank">Second Continental Congress</a>.&nbsp\;&nbsp\;In 1916\,&nbsp\;<a href="https://www.google.com/url?q=https://en.wikipedia.org/wiki/President_Woodrow_Wilson&amp\;sa=D&amp\;source=calendar&amp\;usd=2&amp\;usg=AOvVaw2SNLPrrzWB-sVdkvPhU9zh" style="color: var(--gm3-sys-color-primary)\;" target="_blank">President Woodrow Wilson</a>&nbsp\;issued a&nbsp\;<a href="https://www.google.com/url?q=https://en.wikipedia.org/wiki/Presidential_proclamation_(United_States)&amp\;sa=D&amp\;source=calendar&amp\;usd=2&amp\;usg=AOvVaw1NyULRN0KAZ_8wwdIKxgPN" style="color: var(--gm3-sys-color-primary)\;" target="_blank">presidential proclamation</a>&nbsp\;that designated June 14 as Flag Day. On August 3\, 1949\, National Flag Day was officially established by an&nbsp\;<a href="https://www.google.com/url?q=https://en.wikipedia.org/wiki/Act_of_Congress&amp\;sa=D&amp\;source=calendar&amp\;usd=2&amp\;usg=AOvVaw0d0ZQpYy9gPhvM2KfneceD" style="color: var(--gm3-sys-color-primary)\;" target="_blank">Act of Congress.</a></p>\n\n<p><strong><strong>Our Community</strong></strong></p>\n\n<p>Clifton Fifer\, Kerr County Historian</p>\n\n<p>Doyle Community Center</p>\n\n<p>Gunny&rsquo\;s Warriors</p>\n\n<p>Hill Country Crisis Council</p>\n\n<p>Hill Country Council on Alcohol and Drug Abuse\, Inc</p>\n\n<p>Immigration Resources provided by Texas Immigration Law Council&nbsp\;</p>\n\n<p>League of United Latin American Citizens</p>\n\n<p>PRIDE</p>\n\n<p><strong><strong>Our Entertainers</strong></strong></p>\n\n<p>Clifton Fifer</p>\n\n<p>Carrie Land</p>\n\n<p>Lynette Wedig</p>\n\n<p><strong><strong>Our Food</strong></strong></p>\n\n<p>Enjoy a La Tapatia Taco&nbsp\;</p>\n\n<p>with a cold soft drink\, beer\, wine\, or snow cone from our refreshment bar&nbsp\;</p>\n\n<p>and</p>\n\n<p><strong><strong>Finger Food Catering for Desserts&nbsp\;</strong></strong></p>\n</div>\n\n<div>\n<div>&nbsp\;</div>\n\n<div>\n<div>\n<div>\n<div>Kerr County Democratic Party</div>\n</div>\n\n<div>&nbsp\;</div>\n</div>\n</div>\n</div>\n\n<div>\n<div>&nbsp\;</div>\n\n<div>Free</div>\n</div>\n
LOCATION:
UID:e.1327.29164
SEQUENCE:3
DTSTAMP:20260424T011154Z
URL:https://business.kerrvillechamber.biz/events/details/our-flag-our-community-29164
END:VEVENT

END:VCALENDAR
