BEGIN:VCALENDAR
VERSION:2.0
PRODID:-//ChamberMaster//Event Calendar 2.0//EN
METHOD:PUBLISH
X-PUBLISHED-TTL:P3D
REFRESH-INTERVAL:P3D
CALSCALE:GREGORIAN
BEGIN:VEVENT
DTSTART;VALUE=DATE:20130504
DTEND;VALUE=DATE:20130505
TRANSP:TRANSPARENT
X-MICROSOFT-CDO-ALLDAYEVENT:TRUE
SUMMARY:Our Lady of the Hills High School Annual Fundraiser- Derby Day!
DESCRIPTION:Save the Date!!\n\n	Our Lady of the Hills High School Annual Fundraiser\n\n	Derby Day- May 4th\n\n	Don't miss the best and largest Kentucky Derby Party\n\n	Held on OLH Campus\n\n	Call (830) 895-2301 for more information about tickets and sponsorships
X-ALT-DESC;FMTTYPE=text/html:<p>\n	Save the Date!!</p>\n<p>\n	Our Lady of the Hills High School Annual Fundraiser</p>\n<p>\n	Derby Day- May 4th</p>\n<p>\n	Don&#39\;t miss the best and largest Kentucky Derby Party</p>\n<p>\n	Held on OLH Campus</p>\n<p>\n	Call (830) 895-2301 for more information about tickets and sponsorships</p>\n
LOCATION:
UID:e.1327.639
SEQUENCE:3
DTSTAMP:20260419T225602Z
URL:https://business.kerrvillechamber.biz/events/details/our-lady-of-the-hills-high-school-annual-fundraiser-derby-day-05-04-2013-639
END:VEVENT

END:VCALENDAR
