BEGIN:VCALENDAR
VERSION:2.0
PRODID:-//ChamberMaster//Event Calendar 2.0//EN
METHOD:PUBLISH
X-PUBLISHED-TTL:P3D
REFRESH-INTERVAL:P3D
CALSCALE:GREGORIAN
BEGIN:VEVENT
DTSTART:20141120T203000Z
DTEND:20141120T210000Z
X-MICROSOFT-CDO-ALLDAYEVENT:FALSE
SUMMARY:Pampells Ribbon Cutting
DESCRIPTION:Ribbon cutting celebrating Pampell's Sports Bar & Grill\n\n710 Water Street\, 2:30 pm
X-ALT-DESC;FMTTYPE=text/html:<span style="font-size: medium\;"><span style="font-family: calibri\;">Ribbon cutting celebrating Pampell&#39\;s Sports Bar &amp\; Grill</span></span><br />\n<span style="font-size: medium\;"><span style="font-family: calibri\;">710 Water Street\, 2:30 pm</span></span><br />\n&nbsp\;
LOCATION:
UID:e.1327.4057
SEQUENCE:3
DTSTAMP:20260424T044058Z
URL:https://business.kerrvillechamber.biz/events/details/pampells-ribbon-cutting-11-20-2014-4057
END:VEVENT

END:VCALENDAR
