BEGIN:VCALENDAR
VERSION:2.0
PRODID:-//ChamberMaster//Event Calendar 2.0//EN
METHOD:PUBLISH
X-PUBLISHED-TTL:P3D
REFRESH-INTERVAL:P3D
CALSCALE:GREGORIAN
BEGIN:VEVENT
DTSTART:20131027T190000Z
DTEND:20131027T213000Z
X-MICROSOFT-CDO-ALLDAYEVENT:FALSE
SUMMARY:Pampered Sundays at Kerrville Hills Winery
DESCRIPTION:Pampered Sundays are coming to the winery!  On October 27 at 2:00\, 3:15\, or 4:30 you can enjoy a complimentary facial & pampering from a local Mary Kay consultant. this is the last Pampered Sunday for 2013 so call the winery to reserve your space.
X-ALT-DESC;FMTTYPE=text/html:Pampered Sundays are&nbsp\;coming to the winery!&nbsp\; On&nbsp\;October 27 at 2:00\, 3:15\, or 4:30 you can enjoy a complimentary&nbsp\;facial &amp\; pampering from&nbsp\;a&nbsp\;local Mary Kay consultant. this is the last Pampered Sunday for 2013 so call the winery to reserve your space.&nbsp\;<br />\n
LOCATION:Kerrville Hills Winery 3600 Fredericksburg Kerrville\, TX 2.3 miles north of I-10 on Hwy 16
UID:e.1327.1037
SEQUENCE:3
DTSTAMP:20260419T133800Z
URL:https://business.kerrvillechamber.biz/events/details/pampered-sundays-at-kerrville-hills-winery-10-27-2013-1037
END:VEVENT

END:VCALENDAR
