BEGIN:VCALENDAR
VERSION:2.0
PRODID:-//ChamberMaster//Event Calendar 2.0//EN
METHOD:PUBLISH
X-PUBLISHED-TTL:P3D
REFRESH-INTERVAL:P3D
CALSCALE:GREGORIAN
BEGIN:VEVENT
DTSTART:20130702T153000Z
DTEND:20130702T160000Z
X-MICROSOFT-CDO-ALLDAYEVENT:FALSE
SUMMARY:Peddler's Market Ribbon Cutting
DESCRIPTION:Peddler's Market Ribbon Cutting\n\nTuesday\, July 2nd\, 10:30 am\n\n2590 F-1 Junction Hwy
X-ALT-DESC;FMTTYPE=text/html:<span style="font-size:14px\;"><span style="font-family: 'times new roman'\;">Peddler&#39\;s Market Ribbon Cutting<br />\nTuesday\, July 2nd\, 10:30 am<br />\n2590 F-1 Junction Hwy&nbsp\;</span></span>
LOCATION:
UID:e.1327.980
SEQUENCE:3
DTSTAMP:20260419T182025Z
URL:https://business.kerrvillechamber.biz/events/details/peddler-s-market-ribbon-cutting-07-02-2013-980
END:VEVENT

END:VCALENDAR
