BEGIN:VCALENDAR
VERSION:2.0
PRODID:-//ChamberMaster//Event Calendar 2.0//EN
METHOD:PUBLISH
X-PUBLISHED-TTL:P3D
REFRESH-INTERVAL:P3D
CALSCALE:GREGORIAN
BEGIN:VEVENT
DTSTART:20141117T163000Z
DTEND:20141117T170000Z
X-MICROSOFT-CDO-ALLDAYEVENT:FALSE
SUMMARY:Phone Dawgs Ribbon Cutting
DESCRIPTION:Ribbon Cutting Celebrating Phone Dawgs\, 407 D Junction Hwy. Monday\, November 17th at 10:30 am
X-ALT-DESC;FMTTYPE=text/html:Ribbon Cutting Celebrating Phone Dawgs\, 407 D Junction Hwy. Monday\, November 17th at 10:30 am
LOCATION:
UID:e.1327.4048
SEQUENCE:3
DTSTAMP:20260424T044121Z
URL:https://business.kerrvillechamber.biz/events/details/phone-dawgs-ribbon-cutting-11-17-2014-4048
END:VEVENT

END:VCALENDAR
