BEGIN:VCALENDAR
VERSION:2.0
PRODID:-//ChamberMaster//Event Calendar 2.0//EN
METHOD:PUBLISH
X-PUBLISHED-TTL:P3D
REFRESH-INTERVAL:P3D
CALSCALE:GREGORIAN
BEGIN:VEVENT
DTSTART:20130209T013000Z
DTEND:20130209T033000Z
X-MICROSOFT-CDO-ALLDAYEVENT:FALSE
SUMMARY:Playhouse 2000-Girl in the Freudian Slip
DESCRIPTION:Dr. Dewey Maugham is a typical\, unpretentious 1960's-era psychiatrist with a fashion artist wife and a precocious 17-year-old daughter. Three years ago\, he also had a nymphomaniac for a client   a situation with obvious potential for disaster. He's proud to have kept everything in control\, until unforeseen circumstances bring him tete-a-tete with temptation once again. Can he hold it all together? Or will his own\, unsuspecting family bring things crashing down around him? You'll find out in this laugh-a-minute comedy that's been called "the funniest show of the season." Make your appointment today! For additional information please call 830-896-9393 or visit www.caillouxtheater.com\n\n	VK Garage Theater\, 305 Washington at Main St.
X-ALT-DESC;FMTTYPE=text/html:<p>\n	Dr. Dewey Maugham is a typical\, unpretentious 1960&rsquo\;s-era psychiatrist with a fashion artist wife and a precocious 17-year-old daughter. Three years ago\, he also had a nymphomaniac for a client &ndash\; a situation with obvious potential for disaster. He&rsquo\;s proud to have kept everything in control\, until unforeseen circumstances bring him tete-a-tete with temptation once again. Can he hold it all together? Or will his own\, unsuspecting family bring things crashing down around him? You&rsquo\;ll find out in this laugh-a-minute comedy that&rsquo\;s been called &ldquo\;the funniest show of the season.&rdquo\; Make your appointment today! For additional information please call 830-896-9393 or visit <a class="external" href="http://www.caillouxtheater.com/" target="_blank">www.caillouxtheater.com</a></p>\n<p>\n	VK Garage Theater\, 305 Washington at Main St.</p>\n
LOCATION:
UID:e.1327.508
SEQUENCE:3
DTSTAMP:20260420T021734Z
URL:https://business.kerrvillechamber.biz/events/details/playhouse-2000-girl-in-the-freudian-slip-02-08-2013-508
END:VEVENT

END:VCALENDAR
