BEGIN:VCALENDAR
VERSION:2.0
PRODID:-//ChamberMaster//Event Calendar 2.0//EN
METHOD:PUBLISH
X-PUBLISHED-TTL:P3D
REFRESH-INTERVAL:P3D
CALSCALE:GREGORIAN
BEGIN:VEVENT
DTSTART:20141113T150000Z
DTEND:20141113T210000Z
X-MICROSOFT-CDO-ALLDAYEVENT:FALSE
SUMMARY:Preparing Your Business for the Unthinkable (Disasters)
DESCRIPTION:American Red Cross Program that works with businesses\, organizations\, etc. on disaster preparedness and something called Ready Rating.
X-ALT-DESC;FMTTYPE=text/html:American Red Cross Program that works with businesses\, organizations\, etc. on disaster preparedness and something called Ready Rating.
LOCATION:The American Red Cross\, Hill Country Chapter\, 333 Earl Garrett St.\, Kerrville
UID:e.1327.3833
SEQUENCE:3
DTSTAMP:20260424T044223Z
URL:https://business.kerrvillechamber.biz/events/details/preparing-your-business-for-the-unthinkable-disasters-11-13-2014-3833
END:VEVENT

END:VCALENDAR
