BEGIN:VCALENDAR
VERSION:2.0
PRODID:-//ChamberMaster//Event Calendar 2.0//EN
METHOD:PUBLISH
X-PUBLISHED-TTL:P3D
REFRESH-INTERVAL:P3D
CALSCALE:GREGORIAN
BEGIN:VEVENT
DTSTART:20251025T120000Z
DTEND:20251025T140000Z
X-MICROSOFT-CDO-ALLDAYEVENT:FALSE
SUMMARY:Pumpkin RunL 5K and 1 Mile Fun Run
DESCRIPTION:15th Annual Pumpkin Run 5K and 1 Mile Fun Run Benefiting the afterschool programs of the Kerrville Kroc Academy. Hot breakfast\, commemorative t-shirt\, and great category prizes included!
X-ALT-DESC;FMTTYPE=text/html:15th Annual Pumpkin Run 5K and 1 Mile Fun Run Benefiting the afterschool programs of the Kerrville Kroc Academy. Hot breakfast\, commemorative t-shirt\, and great category prizes included!&nbsp\;
LOCATION:
UID:e.1327.29229
SEQUENCE:3
DTSTAMP:20260423T164617Z
URL:https://business.kerrvillechamber.biz/events/details/pumpkin-runl-5k-and-1-mile-fun-run-29229
END:VEVENT

END:VCALENDAR
