BEGIN:VCALENDAR
VERSION:2.0
PRODID:-//ChamberMaster//Event Calendar 2.0//EN
METHOD:PUBLISH
X-PUBLISHED-TTL:P3D
REFRESH-INTERVAL:P3D
CALSCALE:GREGORIAN
BEGIN:VEVENT
DTSTART:20131218T220000Z
DTEND:20131218T230000Z
X-MICROSOFT-CDO-ALLDAYEVENT:FALSE
SUMMARY:Quarterly Member Orientation
DESCRIPTION:Member Orientation to cover Membership Benefits\, Our Program of Work\, & a Demonstration of the Chamber Website & Member Login Tools.
X-ALT-DESC;FMTTYPE=text/html:<p>\n	Member Orientation to cover Membership Benefits\, Our Program of Work\, &amp\; a Demonstration of the Chamber Website &amp\; Member Login Tools.</p>\n
LOCATION:The Chamber 1700 Sidney Baker St Suite 100
UID:e.1327.448
SEQUENCE:3
DTSTAMP:20260419T121411Z
URL:https://business.kerrvillechamber.biz/events/details/quarterly-member-orientation-12-18-2013-448
END:VEVENT

END:VCALENDAR
