BEGIN:VCALENDAR
VERSION:2.0
PRODID:-//ChamberMaster//Event Calendar 2.0//EN
METHOD:PUBLISH
X-PUBLISHED-TTL:P3D
REFRESH-INTERVAL:P3D
CALSCALE:GREGORIAN
BEGIN:VEVENT
DTSTART:20130328T163000Z
DTEND:20130328T180000Z
X-MICROSOFT-CDO-ALLDAYEVENT:FALSE
SUMMARY:Quarterly Membership Networking Luncheon (Chamber Event)
DESCRIPTION:Sponsored by Texas Healthcare Solutions & Co-Sponsored by Benefit Choices Co.\n\n	Quarterly Membership/Networking Luncheon\n\n	Topic will be "Are you ready for 2014? Healthcare Reform Laws are coming\, ready or not. Find out what it means for you".
X-ALT-DESC;FMTTYPE=text/html:<p>\n	<span style="font-size: 12px\;"><span style="font-family: arial\;">Sponsored by Texas Healthcare Solutions &amp\; Co-Sponsored by Benefit Choices Co.<br />\n	Quarterly Membership/Networking Luncheon</span></span></p>\n<p>\n	<span style="font-size: 12px\;"><span style="font-family: arial\;"><span style="color: windowtext\; mso-bidi-font-weight: bold\;">Topic will be &ldquo\;Are you ready for 2014? Healthcare Reform Laws are coming\, ready or not. Find out what it means for you&rdquo\;.</span></span></span><span style="color: windowtext\; font-family: &quot\;arial&quot\;\,&quot\;sans-serif&quot\;\; font-size: 14pt\; mso-bidi-font-weight: bold\;"><o:p></o:p></span></p>\n
LOCATION:Callioux Ballroom Schreiner University
UID:e.1327.516
SEQUENCE:3
DTSTAMP:20260420T002207Z
URL:https://business.kerrvillechamber.biz/events/details/quarterly-membership-networking-luncheon-chamber-event-03-28-2013-516
END:VEVENT

END:VCALENDAR
