BEGIN:VCALENDAR
VERSION:2.0
PRODID:-//ChamberMaster//Event Calendar 2.0//EN
METHOD:PUBLISH
X-PUBLISHED-TTL:P3D
REFRESH-INTERVAL:P3D
CALSCALE:GREGORIAN
BEGIN:VEVENT
DTSTART:20130516T163000Z
DTEND:20130516T183000Z
X-MICROSOFT-CDO-ALLDAYEVENT:FALSE
SUMMARY:Quarterly Membership/Networking Luncheon & Leadership Kerr County Graduation
DESCRIPTION:Quarterly Membership/Networking Luncheon\n\n	Sponsored by: Ameriprise Financial-Talarico & Associates\n\n	Leadership Kerr County Class #28 Graduation
X-ALT-DESC;FMTTYPE=text/html:<p>\n	Quarterly Membership/Networking Luncheon<br />\n	Sponsored by: Ameriprise Financial-Talarico &amp\; Associates<br />\n	Leadership Kerr County Class #28 Graduation<br />\n	&nbsp\;</p>\n
LOCATION:Comanche Trace Vista Room
UID:e.1327.517
SEQUENCE:3
DTSTAMP:20260419T225228Z
URL:https://business.kerrvillechamber.biz/events/details/quarterly-membership-networking-luncheon-leadership-kerr-county-graduation-05-16-2013-517
END:VEVENT

END:VCALENDAR
