BEGIN:VCALENDAR
VERSION:2.0
PRODID:-//ChamberMaster//Event Calendar 2.0//EN
METHOD:PUBLISH
X-PUBLISHED-TTL:P3D
REFRESH-INTERVAL:P3D
CALSCALE:GREGORIAN
BEGIN:VEVENT
DTSTART:20130626T210000Z
DTEND:20130626T220000Z
X-MICROSOFT-CDO-ALLDAYEVENT:FALSE
SUMMARY:Quarterly Open House and Member Orientation
DESCRIPTION:The Kerrville Area Chamber of Commerce welcomes new\, current\, and potential members to our Quarterly Open House and Member Orientation.  We will be covering our Membership Benefits\, Program of Work\, Demonstration of the Chamber Website\, & Member Login Tools.\n\n	\n\n	Free to attend\, but RSVP required to allison@kerrvilletx.com
X-ALT-DESC;FMTTYPE=text/html:<p>\n	<span style="font-family:cambria\,serif\;"><span style="font-size:12.0pt\;">The Kerrville Area Chamber of Commerce welcomes new\, current\, and potential members to our Quarterly Open House and Member Orientation.&nbsp\; We will be covering our Membership Benefits\, Program of Work\, Demonstration of the Chamber Website\, &amp\; Member Login Tools.<br />\n	<br />\n	Free to attend\, but RSVP required to allison@kerrvilletx.com&nbsp\;</span></span></p>\n
LOCATION:The Chamber\, 1700 Sidney Baker St\, Suite 100
UID:e.1327.445
SEQUENCE:3
DTSTAMP:20260419T200728Z
URL:https://business.kerrvillechamber.biz/events/details/quarterly-open-house-and-member-orientation-06-26-2013-445
END:VEVENT

END:VCALENDAR
