BEGIN:VCALENDAR
VERSION:2.0
PRODID:-//ChamberMaster//Event Calendar 2.0//EN
METHOD:PUBLISH
X-PUBLISHED-TTL:P3D
REFRESH-INTERVAL:P3D
CALSCALE:GREGORIAN
BEGIN:VEVENT
DTSTART:20130524T170000Z
DTEND:20130526T210000Z
X-MICROSOFT-CDO-ALLDAYEVENT:FALSE
SUMMARY:Quilts in Motion
DESCRIPTION:Hill Country Quilt Guild presents the 2013 Quilt Show.
X-ALT-DESC;FMTTYPE=text/html:<p>\n	Hill Country Quilt Guild presents the 2013 Quilt Show.</p>\n
LOCATION:Edington Gymnasium - Schreiner University located at 2100 Memorial Boulevard in Kerrville\, Texas.
UID:e.1327.382
SEQUENCE:3
DTSTAMP:20260419T213136Z
URL:https://business.kerrvillechamber.biz/events/details/quilts-in-motion-05-24-2013-382
END:VEVENT

END:VCALENDAR
