BEGIN:VCALENDAR
VERSION:2.0
PRODID:-//ChamberMaster//Event Calendar 2.0//EN
METHOD:PUBLISH
X-PUBLISHED-TTL:P3D
REFRESH-INTERVAL:P3D
CALSCALE:GREGORIAN
BEGIN:VEVENT
DTSTART:20260114T120000Z
DTEND:20260114T180000Z
X-MICROSOFT-CDO-ALLDAYEVENT:FALSE
SUMMARY:Ranch Radio Marketing Group Radiothon benefiting the Hill District Grandstand Youth
DESCRIPTION:It's been a tough year for a lot of our family and friends throughout the Hill Country.\n\nThe love\, money\, and support you have shown our community has been nothing short of incredible\, but there's still a group of those right here in the Hill Country that could still use your help.\n\nOn Wednesday\, January 16th\, from six a.m. until noon\, we'll be hosting our 6th Annual Radiothon\, benefiting the Hill District Grandstand Youth Livestock Sale. One hundred percent of the money raised that day will go to the kids that participate in 4-H\, FFA\, and Ag Mechanics programs right here in the Hill Country.\n\nThe 6th Annual Ranch Radio Marketing Group Radiothon is sponsored by S-B-S Construction Group in Hunt\, Garrett Realty and Auction\, Kinetico of San Antonio and the Hill Country\, Fredericksburg Chevrolet GMC\, Cypress Roofing\, and Coyote Powersports of Boerne.\n\nYou can make your tax-deductible donation right now by visiting www.ranchrmg.com.\n\nFrom our Ranch Radio Marketing Group family to yours\, thank you for your donation to help the kids in the Texas Hill Country!
X-ALT-DESC;FMTTYPE=text/html:<p>It&rsquo\;s been a tough year for a lot of our family and friends throughout the Hill Country.<br />\nThe love\, money\, and support you have shown our community has been nothing short of incredible\, but there&rsquo\;s still a group of those right here in the Hill Country that could still use your help.</p>\n\n<p>On Wednesday\, January 16th\, from six a.m. until noon\, we&rsquo\;ll be hosting our 6th Annual Radiothon\, benefiting the Hill District Grandstand Youth Livestock Sale. One hundred percent of the money raised that day will go to the kids that participate in 4-H\, FFA\, and Ag Mechanics programs right here in the Hill Country.</p>\n\n<p>The 6th Annual Ranch Radio Marketing Group Radiothon is sponsored by S-B-S Construction Group in Hunt\, Garrett Realty and Auction\, Kinetico of San Antonio and the Hill Country\, Fredericksburg Chevrolet GMC\, Cypress Roofing\, and Coyote Powersports of Boerne.</p>\n\n<p>You can make your tax-deductible donation right now by visiting www.ranchrmg.com.</p>\n\n<p>From our Ranch Radio Marketing Group family to yours\, thank you for your donation to help the kids in the Texas Hill Country!</p>\n
LOCATION:3505 Fredericksburg Rd. Kerrville\, TX 78028 www.ranchrmg.com
UID:e.1327.29262
SEQUENCE:3
DTSTAMP:20260423T142604Z
URL:https://business.kerrvillechamber.biz/events/details/ranch-radio-marketing-group-radiothon-benefiting-the-hill-district-grandstand-youth-29262
END:VEVENT

END:VCALENDAR
