BEGIN:VCALENDAR
VERSION:2.0
PRODID:-//ChamberMaster//Event Calendar 2.0//EN
METHOD:PUBLISH
X-PUBLISHED-TTL:P3D
REFRESH-INTERVAL:P3D
CALSCALE:GREGORIAN
BEGIN:VEVENT
DTSTART;VALUE=DATE:20130427
DTEND;VALUE=DATE:20130428
TRANSP:TRANSPARENT
X-MICROSOFT-CDO-ALLDAYEVENT:TRUE
SUMMARY:Return to Kerrville Fly-In Reunion
DESCRIPTION:Come for the Day or stay the weekend! No Agenda\, just reacquaint with old friends and make new ones. Bar-B-Que Lunch hosted by Joe Kennedy of Kerrville Aviation. Location Kerrville-Kerr County Airport. Under Wing Camping allowed. Free Transportation to Hotels Available.
X-ALT-DESC;FMTTYPE=text/html:Come for the Day or stay the weekend! No Agenda\, just reacquaint with old friends and make new ones. Bar-B-Que Lunch hosted by Joe Kennedy of Kerrville Aviation. Location Kerrville-Kerr County Airport. Under Wing Camping allowed. Free Transportation to Hotels Available. 
LOCATION:
UID:e.1327.626
SEQUENCE:3
DTSTAMP:20260419T225313Z
URL:https://business.kerrvillechamber.biz/events/details/return-to-kerrville-fly-in-reunion-04-27-2013-626
END:VEVENT

END:VCALENDAR
