BEGIN:VCALENDAR
VERSION:2.0
PRODID:-//ChamberMaster//Event Calendar 2.0//EN
METHOD:PUBLISH
X-PUBLISHED-TTL:P3D
REFRESH-INTERVAL:P3D
CALSCALE:GREGORIAN
BEGIN:VEVENT
DTSTART:20130404T220000Z
DTEND:20130404T230000Z
X-MICROSOFT-CDO-ALLDAYEVENT:FALSE
SUMMARY:Ribbon Cutting- 1011 Bistro (Formerly River's Edge Tuscan Grille)
DESCRIPTION:Rivers Edge Tuscan Grill will be celebrating new ownership\,  name change to 1011 Bistro\, and a new menu with a Ribbon Cutting on Thursday\, April 4th.
X-ALT-DESC;FMTTYPE=text/html:<span style="font-family: times new roman\,serif\;"><span style="font-size: medium\;">Rivers Edge Tuscan Grill will be celebrating new ownership\,&nbsp\; name change to <strong>1011 Bistro</strong>\, and a new menu with a Ribbon Cutting on Thursday\, April 4th. </span></span><br />\n
LOCATION:1011 Guadalupe
UID:e.1327.677
SEQUENCE:3
DTSTAMP:20260420T002329Z
URL:https://business.kerrvillechamber.biz/events/details/ribbon-cutting-1011-bistro-formerly-river-s-edge-tuscan-grille-04-04-2013-677
END:VEVENT

END:VCALENDAR
