BEGIN:VCALENDAR
VERSION:2.0
PRODID:-//ChamberMaster//Event Calendar 2.0//EN
METHOD:PUBLISH
X-PUBLISHED-TTL:P3D
REFRESH-INTERVAL:P3D
CALSCALE:GREGORIAN
BEGIN:VEVENT
DTSTART:20141121T163000Z
DTEND:20141121T170000Z
X-MICROSOFT-CDO-ALLDAYEVENT:FALSE
SUMMARY:Ribbon Cutting 2 GypsyZ Art
DESCRIPTION:Ribbon Cutting Celebrating 2 GypsyZ Art  at 740 Earl Garrett #103 from 10:30 - 11:00 am
X-ALT-DESC;FMTTYPE=text/html:Ribbon Cutting Celebrating 2 GypsyZ Art&nbsp\; at 740 Earl Garrett #103 from 10:30 - 11:00 am
LOCATION:
UID:e.1327.3884
SEQUENCE:3
DTSTAMP:20260424T044241Z
URL:https://business.kerrvillechamber.biz/events/details/ribbon-cutting-2-gypsyz-art-11-21-2014-3884
END:VEVENT

END:VCALENDAR
