BEGIN:VCALENDAR
VERSION:2.0
PRODID:-//ChamberMaster//Event Calendar 2.0//EN
METHOD:PUBLISH
X-PUBLISHED-TTL:P3D
REFRESH-INTERVAL:P3D
CALSCALE:GREGORIAN
BEGIN:VEVENT
DTSTART:20130916T153000Z
DTEND:20130916T160000Z
X-MICROSOFT-CDO-ALLDAYEVENT:FALSE
SUMMARY:Ribbon cutting and grand opening for Earnest Roofing
DESCRIPTION:Grand Opening Ribbon Cutting for Earnest Roofing\n\n404 Junction Highway\n\nMonday\, September 16\, 10:30 am
X-ALT-DESC;FMTTYPE=text/html:<span style="font-size:14px\;"><span style="font-family:times new roman\,serif\;">Grand Opening Ribbon Cutting for Earnest Roofing</span><br />\n<span style="font-family:times new roman\,serif\;">404 Junction Highway</span><br />\n<span style="font-family:times new roman\,serif\;">Monday\, September 16\, 10:30 am</span></span><br />\n
LOCATION:
UID:e.1327.1109
SEQUENCE:3
DTSTAMP:20260419T151737Z
URL:https://business.kerrvillechamber.biz/events/details/ribbon-cutting-and-grand-opening-for-earnest-roofing-09-16-2013-1109
END:VEVENT

END:VCALENDAR
