BEGIN:VCALENDAR
VERSION:2.0
PRODID:-//ChamberMaster//Event Calendar 2.0//EN
METHOD:PUBLISH
X-PUBLISHED-TTL:P3D
REFRESH-INTERVAL:P3D
CALSCALE:GREGORIAN
BEGIN:VEVENT
DTSTART:20131011T153000Z
DTEND:20131011T160000Z
X-MICROSOFT-CDO-ALLDAYEVENT:FALSE
SUMMARY:Ribbon cutting and grand opening for Powell Vacuum & Allergy
DESCRIPTION:Powell Vacuum & Allergy\n\n1421 B Sidney Baker St \n\nFriday\, October 11\, 10:30 am
X-ALT-DESC;FMTTYPE=text/html:<span style="font-family:times new roman\,serif\;">Powell Vacuum &amp\; Allergy</span><br />\n<span style="font-family:times new roman\,serif\;">1421 B Sidney Baker St&nbsp\;</span><br />\n<span style="font-family:times new roman\,serif\;">Friday\, October 11\, 10:30 am</span><br />\n
LOCATION:
UID:e.1327.1338
SEQUENCE:3
DTSTAMP:20260419T151908Z
URL:https://business.kerrvillechamber.biz/events/details/ribbon-cutting-and-grand-opening-for-powell-vacuum-allergy-10-11-2013-1338
END:VEVENT

END:VCALENDAR
