BEGIN:VCALENDAR
VERSION:2.0
PRODID:-//ChamberMaster//Event Calendar 2.0//EN
METHOD:PUBLISH
X-PUBLISHED-TTL:P3D
REFRESH-INTERVAL:P3D
CALSCALE:GREGORIAN
BEGIN:VEVENT
DTSTART:20131012T160000Z
DTEND:20131012T163000Z
X-MICROSOFT-CDO-ALLDAYEVENT:FALSE
SUMMARY:Ribbon cutting and open house for Polly Texas Association
DESCRIPTION:Ribbon cutting and open house for Polly Texas Assocation\n\nSaturday\, October 12\, 11:00 am\n\n\n\nJoin them for a open house afterward to tour their recently renovated chapel and enjoy refreshments!
X-ALT-DESC;FMTTYPE=text/html:Ribbon cutting and open house for Polly Texas Assocation<br />\nSaturday\, October 12\, 11:00 am<br />\n<br />\nJoin them for a open house afterward to tour their recently renovated chapel and enjoy refreshments!
LOCATION:
UID:e.1327.1097
SEQUENCE:3
DTSTAMP:20260419T133647Z
URL:https://business.kerrvillechamber.biz/events/details/ribbon-cutting-and-open-house-for-polly-texas-association-10-12-2013-1097
END:VEVENT

END:VCALENDAR
