BEGIN:VCALENDAR
VERSION:2.0
PRODID:-//ChamberMaster//Event Calendar 2.0//EN
METHOD:PUBLISH
X-PUBLISHED-TTL:P3D
REFRESH-INTERVAL:P3D
CALSCALE:GREGORIAN
BEGIN:VEVENT
DTSTART:20130321T153000Z
DTEND:20130321T160000Z
X-MICROSOFT-CDO-ALLDAYEVENT:FALSE
SUMMARY:Ribbon Cutting at 830 Boutique
DESCRIPTION:Ribbon Cutting at 830 Boutique
X-ALT-DESC;FMTTYPE=text/html:Ribbon Cutting at 830 Boutique
LOCATION:830 Boutique (inside Hair Productions\, across from the Schreiner One Building) 830 Water St
UID:e.1327.654
SEQUENCE:3
DTSTAMP:20260420T021433Z
URL:https://business.kerrvillechamber.biz/events/details/ribbon-cutting-at-830-boutique-03-21-2013-654
END:VEVENT

END:VCALENDAR
