BEGIN:VCALENDAR
VERSION:2.0
PRODID:-//ChamberMaster//Event Calendar 2.0//EN
METHOD:PUBLISH
X-PUBLISHED-TTL:P3D
REFRESH-INTERVAL:P3D
CALSCALE:GREGORIAN
BEGIN:VEVENT
DTSTART:20130226T163000Z
DTEND:20130226T170000Z
X-MICROSOFT-CDO-ALLDAYEVENT:FALSE
SUMMARY:Ribbon Cutting- Carlson Law Firm
DESCRIPTION:Ribbon Cutting\n\nCarlson Law Firm New Location
X-ALT-DESC;FMTTYPE=text/html:Ribbon Cutting<br />\nCarlson Law Firm New Location&nbsp\;&nbsp\;&nbsp\;&nbsp\;<br />\n<br />\n<br />\n
LOCATION:New Location 717 Sidney Baker Street
UID:e.1327.540
SEQUENCE:3
DTSTAMP:20260420T021545Z
URL:https://business.kerrvillechamber.biz/events/details/ribbon-cutting-carlson-law-firm-02-26-2013-540
END:VEVENT

END:VCALENDAR
