BEGIN:VCALENDAR
VERSION:2.0
PRODID:-//ChamberMaster//Event Calendar 2.0//EN
METHOD:PUBLISH
X-PUBLISHED-TTL:P3D
REFRESH-INTERVAL:P3D
CALSCALE:GREGORIAN
BEGIN:VEVENT
DTSTART:20131003T220000Z
DTEND:20131003T230000Z
X-MICROSOFT-CDO-ALLDAYEVENT:FALSE
SUMMARY:Ribbon cutting celebrating Antler Grille
DESCRIPTION:Thursday\, October 3\, 5:00 pm\n\nAntler Grille ribbon cutting\n\n1270 Texas Highway 39\, Hunt\, TX
X-ALT-DESC;FMTTYPE=text/html:<span style="font-family:times new roman\,serif\;">Thursday\, October 3\, 5:00 pm</span><br />\n<span style="font-family:times new roman\,serif\;">Antler Grille ribbon cutting</span><br />\n<span style="font-family:times new roman\,serif\;">1270 Texas Highway 39\, Hunt\, TX</span><br />\n<br />\n&nbsp\;<br />\n
LOCATION:
UID:e.1327.1323
SEQUENCE:3
DTSTAMP:20260419T133541Z
URL:https://business.kerrvillechamber.biz/events/details/ribbon-cutting-celebrating-antler-grille-10-03-2013-1323
END:VEVENT

END:VCALENDAR
