BEGIN:VCALENDAR
VERSION:2.0
PRODID:-//ChamberMaster//Event Calendar 2.0//EN
METHOD:PUBLISH
X-PUBLISHED-TTL:P3D
REFRESH-INTERVAL:P3D
CALSCALE:GREGORIAN
BEGIN:VEVENT
DTSTART:20130701T153000Z
DTEND:20130702T040000Z
X-MICROSOFT-CDO-ALLDAYEVENT:FALSE
SUMMARY:Ribbon Cutting celebrating Bella Sera Restaurant
DESCRIPTION:Ribbon cutting celebrating Bella Sera Restaurant
X-ALT-DESC;FMTTYPE=text/html:Ribbon cutting celebrating Bella Sera Restaurant&nbsp\;&nbsp\;&nbsp\;&nbsp\;
LOCATION:2124 Sidney Baker Kerrville\, TX 78028
UID:e.1327.981
SEQUENCE:3
DTSTAMP:20260419T194144Z
URL:https://business.kerrvillechamber.biz/events/details/ribbon-cutting-celebrating-bella-sera-restaurant-07-01-2013-981
END:VEVENT

END:VCALENDAR
