BEGIN:VCALENDAR
VERSION:2.0
PRODID:-//ChamberMaster//Event Calendar 2.0//EN
METHOD:PUBLISH
X-PUBLISHED-TTL:P3D
REFRESH-INTERVAL:P3D
CALSCALE:GREGORIAN
BEGIN:VEVENT
DTSTART:20141119T203000Z
DTEND:20141119T210000Z
X-MICROSOFT-CDO-ALLDAYEVENT:FALSE
SUMMARY:Ribbon cutting celebrating Brookdale Guadalupe River Plaza (formerly at Emeritus at Plaza)
DESCRIPTION:Ribbon cutting celebrating Brookdale Guadalupe River Plaza (formerly at Emeritus at Plaza)
X-ALT-DESC;FMTTYPE=text/html:<span style="font-family: times new roman\,serif\;"><span style="font-size: medium\;">Ribbon cutting celebrating Brookdale Guadalupe River Plaza (formerly at Emeritus at Plaza)</span></span><br />\n&nbsp\;
LOCATION:808 Guadalupe St. Formerly Emeritus at Plaza on The River Senior Living Community
UID:e.1327.4036
SEQUENCE:3
DTSTAMP:20260424T044449Z
URL:https://business.kerrvillechamber.biz/events/details/ribbon-cutting-celebrating-brookdale-guadalupe-river-plaza-formerly-at-emeritus-at-plaza-11-19-2014-4036
END:VEVENT

END:VCALENDAR
