BEGIN:VCALENDAR
VERSION:2.0
PRODID:-//ChamberMaster//Event Calendar 2.0//EN
METHOD:PUBLISH
X-PUBLISHED-TTL:P3D
REFRESH-INTERVAL:P3D
CALSCALE:GREGORIAN
BEGIN:VEVENT
DTSTART:20140117T203000Z
DTEND:20140117T210000Z
X-MICROSOFT-CDO-ALLDAYEVENT:FALSE
SUMMARY:Ribbon cutting celebrating Community Acupuncture & Herbs
DESCRIPTION:Ribbon cutting for Community Acupuncture & Herbs\n\nFriday\, January 17th\, 2:30 p.m.
X-ALT-DESC;FMTTYPE=text/html:<span style="font-size:14px\;"><span style="font-family:arial\;">Ribbon cutting for Community Acupuncture &amp\; Herbs<br />\nFriday\, January 17th\, 2:30 p.m.</span></span>
LOCATION:327 Earl Garrett\, Suite 112
UID:e.1327.1701
SEQUENCE:3
DTSTAMP:20260421T083608Z
URL:https://business.kerrvillechamber.biz/events/details/ribbon-cutting-celebrating-community-acupuncture-herbs-01-17-2014-1701
END:VEVENT

END:VCALENDAR
