BEGIN:VCALENDAR
VERSION:2.0
PRODID:-//ChamberMaster//Event Calendar 2.0//EN
METHOD:PUBLISH
X-PUBLISHED-TTL:P3D
REFRESH-INTERVAL:P3D
CALSCALE:GREGORIAN
BEGIN:VEVENT
DTSTART:20130828T153000Z
DTEND:20130828T160000Z
X-MICROSOFT-CDO-ALLDAYEVENT:FALSE
SUMMARY:Ribbon cutting celebrating Curve's of Kerrville
DESCRIPTION:Ribbon cutting celebrating Curve's of Kerrville\n\nWednesday\, August 28\, 10:30 a.m.\n\n837-2 Junction Hwy. (River Oaks shopping center)
X-ALT-DESC;FMTTYPE=text/html:Ribbon cutting celebrating Curve&#39\;s of Kerrville<br />\nWednesday\, August 28\, 10:30 a.m.<br />\n837-2 Junction Hwy. (River Oaks shopping center)<br />\n&nbsp\; &nbsp\;&nbsp\;
LOCATION:
UID:e.1327.1094
SEQUENCE:3
DTSTAMP:20260419T165535Z
URL:https://business.kerrvillechamber.biz/events/details/ribbon-cutting-celebrating-curve-s-of-kerrville-08-28-2013-1094
END:VEVENT

END:VCALENDAR
