BEGIN:VCALENDAR
VERSION:2.0
PRODID:-//ChamberMaster//Event Calendar 2.0//EN
METHOD:PUBLISH
X-PUBLISHED-TTL:P3D
REFRESH-INTERVAL:P3D
CALSCALE:GREGORIAN
BEGIN:VEVENT
DTSTART:20131220T203000Z
DTEND:20131220T210000Z
X-MICROSOFT-CDO-ALLDAYEVENT:FALSE
SUMMARY:Ribbon cutting celebrating Dilly Design
DESCRIPTION:Ribbon cutting celebrating Dilly Design\n\nFriday\, December 20\, 2:30 pm\n\nHeld at the Chamber
X-ALT-DESC;FMTTYPE=text/html:Ribbon cutting celebrating Dilly Design<br />\nFriday\, December 20\, 2:30 pm<br />\nHeld at the Chamber
LOCATION:
UID:e.1327.1634
SEQUENCE:3
DTSTAMP:20260419T121410Z
URL:https://business.kerrvillechamber.biz/events/details/ribbon-cutting-celebrating-dilly-design-12-20-2013-1634
END:VEVENT

END:VCALENDAR
