BEGIN:VCALENDAR
VERSION:2.0
PRODID:-//ChamberMaster//Event Calendar 2.0//EN
METHOD:PUBLISH
X-PUBLISHED-TTL:P3D
REFRESH-INTERVAL:P3D
CALSCALE:GREGORIAN
BEGIN:VEVENT
DTSTART:20130912T193000Z
DTEND:20130912T200000Z
X-MICROSOFT-CDO-ALLDAYEVENT:FALSE
SUMMARY:Ribbon Cutting celebrating Hill Country Tint and Wraps
DESCRIPTION:Ribbon Cutting celebrating Hill Country Tint & Wraps\n\nThursday\, September 12\, 2:30 pm\n\n1810 Junction Hwy #205
X-ALT-DESC;FMTTYPE=text/html:Ribbon Cutting celebrating Hill Country Tint &amp\; Wraps<br />\nThursday\, September 12\, 2:30 pm<br />\n1810 Junction Hwy #205<br />\n<br />\n
LOCATION:
UID:e.1327.1085
SEQUENCE:3
DTSTAMP:20260419T151748Z
URL:https://business.kerrvillechamber.biz/events/details/ribbon-cutting-celebrating-hill-country-tint-and-wraps-09-12-2013-1085
END:VEVENT

END:VCALENDAR
