BEGIN:VCALENDAR
VERSION:2.0
PRODID:-//ChamberMaster//Event Calendar 2.0//EN
METHOD:PUBLISH
X-PUBLISHED-TTL:P3D
REFRESH-INTERVAL:P3D
CALSCALE:GREGORIAN
BEGIN:VEVENT
DTSTART:20130930T210000Z
DTEND:20130930T213000Z
X-MICROSOFT-CDO-ALLDAYEVENT:FALSE
SUMMARY:Ribbon cutting celebrating Kendra's House of Bling
DESCRIPTION:Ribbon cutting celebrating Kendra's House of Bling\n\nMonday\, September 30\, 4:00 pm\n\n415 B Clay Street (located in the depot center next to Rails)
X-ALT-DESC;FMTTYPE=text/html:<span style="font-size: 14px"><span style="font-family: arial">Ribbon cutting celebrating Kendra&rsquo\;s House of Bling<br />\nMonday\, September 30\, 4:00 pm<br />\n415 B Clay Street (located in the depot center next to Rails)</span></span><br />\n<br />\n
LOCATION:
UID:e.1327.1326
SEQUENCE:3
DTSTAMP:20260419T165339Z
URL:https://business.kerrvillechamber.biz/events/details/ribbon-cutting-celebrating-kendra-s-house-of-bling-09-30-2013-1326
END:VEVENT

END:VCALENDAR
