BEGIN:VCALENDAR
VERSION:2.0
PRODID:-//ChamberMaster//Event Calendar 2.0//EN
METHOD:PUBLISH
X-PUBLISHED-TTL:P3D
REFRESH-INTERVAL:P3D
CALSCALE:GREGORIAN
BEGIN:VEVENT
DTSTART:20130906T153000Z
DTEND:20130906T160000Z
X-MICROSOFT-CDO-ALLDAYEVENT:FALSE
SUMMARY:Ribbon cutting celebrating Kerr County Federal Credit Union
DESCRIPTION:Kerr County Federal Credit Union Grand Opening Ribbon Cutting\n\nFriday\, September 6\, 10:30 am\n\n2335 Junction Hwy
X-ALT-DESC;FMTTYPE=text/html:<span style="font-family:times new roman\,serif\;">Kerr County Federal Credit Union Grand Opening Ribbon Cutting</span><br />\n<span style="font-family:times new roman\,serif\;">Friday\, September 6\, 10:30 am</span><br />\n<span style="font-family:times new roman\,serif\;">2335 Junction Hwy</span><br />\n
LOCATION:
UID:e.1327.1101
SEQUENCE:3
DTSTAMP:20260419T165535Z
URL:https://business.kerrvillechamber.biz/events/details/ribbon-cutting-celebrating-kerr-county-federal-credit-union-09-06-2013-1101
END:VEVENT

END:VCALENDAR
