BEGIN:VCALENDAR
VERSION:2.0
PRODID:-//ChamberMaster//Event Calendar 2.0//EN
METHOD:PUBLISH
X-PUBLISHED-TTL:P3D
REFRESH-INTERVAL:P3D
CALSCALE:GREGORIAN
BEGIN:VEVENT
DTSTART:20130625T153000Z
DTEND:20130625T160000Z
X-MICROSOFT-CDO-ALLDAYEVENT:FALSE
SUMMARY:Ribbon cutting celebrating Kerr County Greeters
DESCRIPTION:Ribbon Cutting celebrating new ownership of Kerr County Greeters\n\nTuesday\, June 25 \, 10:30 am
X-ALT-DESC;FMTTYPE=text/html:Ribbon Cutting celebrating new ownership of Kerr County Greeters<br />\nTuesday\, June 25 \, 10:30 am&nbsp\;&nbsp\;&nbsp\;&nbsp\;&nbsp\;&nbsp\;&nbsp\;&nbsp\;
LOCATION:Held at the Chamber 1700 Sidney Baker St Ste 100
UID:e.1327.946
SEQUENCE:3
DTSTAMP:20260419T213629Z
URL:https://business.kerrvillechamber.biz/events/details/ribbon-cutting-celebrating-kerr-county-greeters-06-25-2013-946
END:VEVENT

END:VCALENDAR
