BEGIN:VCALENDAR
VERSION:2.0
PRODID:-//ChamberMaster//Event Calendar 2.0//EN
METHOD:PUBLISH
X-PUBLISHED-TTL:P3D
REFRESH-INTERVAL:P3D
CALSCALE:GREGORIAN
BEGIN:VEVENT
DTSTART:20131021T153000Z
DTEND:20131021T160000Z
X-MICROSOFT-CDO-ALLDAYEVENT:FALSE
SUMMARY:Ribbon cutting celebrating Kerr County United Way
DESCRIPTION:Ribbon cutting celebrating Kerr County United Way\n\nMonday\, October 21\, 10:30 am\n\n333 Earl Garrett
X-ALT-DESC;FMTTYPE=text/html:<span style="font-size:14px\;"><span style="font-family:arial\;">Ribbon cutting celebrating Kerr County United Way<br />\nMonday\, October 21\, 10:30 am<br />\n333 Earl Garrett</span></span>
LOCATION:
UID:e.1327.1353
SEQUENCE:3
DTSTAMP:20260419T133749Z
URL:https://business.kerrvillechamber.biz/events/details/ribbon-cutting-celebrating-kerr-county-united-way-10-21-2013-1353
END:VEVENT

END:VCALENDAR
