BEGIN:VCALENDAR
VERSION:2.0
PRODID:-//ChamberMaster//Event Calendar 2.0//EN
METHOD:PUBLISH
X-PUBLISHED-TTL:P3D
REFRESH-INTERVAL:P3D
CALSCALE:GREGORIAN
BEGIN:VEVENT
DTSTART:20130917T213000Z
DTEND:20130917T220000Z
X-MICROSOFT-CDO-ALLDAYEVENT:FALSE
SUMMARY:Ribbon cutting celebrating Lamb Creek Family Adventures
DESCRIPTION:Ribbon cutting celebrating Lamb Creek Family Adventures \n\nTuesday\, September 17\, 4:30 pm\n\nHeld at City Hall
X-ALT-DESC;FMTTYPE=text/html:<span style="font-family:times new roman\,serif\;">Ribbon cutting celebrating Lamb Creek Family Adventures </span><br />\n<span style="font-family:times new roman\,serif\;">Tuesday\, September 17\, 4:30 pm</span><br />\n<span style="font-family:times new roman\,serif\;">Held at City Hall</span><br />\n
LOCATION:
UID:e.1327.1324
SEQUENCE:3
DTSTAMP:20260419T151752Z
URL:https://business.kerrvillechamber.biz/events/details/ribbon-cutting-celebrating-lamb-creek-family-adventures-09-17-2013-1324
END:VEVENT

END:VCALENDAR
