BEGIN:VCALENDAR
VERSION:2.0
PRODID:-//ChamberMaster//Event Calendar 2.0//EN
METHOD:PUBLISH
X-PUBLISHED-TTL:P3D
REFRESH-INTERVAL:P3D
CALSCALE:GREGORIAN
BEGIN:VEVENT
DTSTART:20130807T153000Z
DTEND:20130807T160000Z
X-MICROSOFT-CDO-ALLDAYEVENT:FALSE
SUMMARY:Ribbon Cutting celebrating LegalShield
DESCRIPTION:Ribbon cutting celebrating LegalShield\n\nWednesday\, August 7\, 10:30 am
X-ALT-DESC;FMTTYPE=text/html:Ribbon cutting celebrating LegalShield<br />\nWednesday\, August 7\, 10:30 am<br />\n<br />\n
LOCATION:Held at the Chamber
UID:e.1327.1044
SEQUENCE:3
DTSTAMP:20260419T164641Z
URL:https://business.kerrvillechamber.biz/events/details/ribbon-cutting-celebrating-legalshield-08-07-2013-1044
END:VEVENT

END:VCALENDAR
