BEGIN:VCALENDAR
VERSION:2.0
PRODID:-//ChamberMaster//Event Calendar 2.0//EN
METHOD:PUBLISH
X-PUBLISHED-TTL:P3D
REFRESH-INTERVAL:P3D
CALSCALE:GREGORIAN
BEGIN:VEVENT
DTSTART:20131018T150000Z
DTEND:20131018T153000Z
X-MICROSOFT-CDO-ALLDAYEVENT:FALSE
SUMMARY:Ribbon cutting celebrating Schreiner University Gus Schreiner Dining Hall/Chartwells
DESCRIPTION:Ribbon cutting celebrating Schreiner University Gus Schreiner Dining Hall/Chartwells
X-ALT-DESC;FMTTYPE=text/html:<span style="font-family:arial\;">Ribbon cutting celebrating&nbsp\;Schreiner University Gus Schreiner Dining Hall/Chartwells&nbsp\;</span><br />\n
LOCATION:Schreiner University\, 2100 Memorial Blvd. (in front of the Dining Hall in the Commons)
UID:e.1327.1564
SEQUENCE:3
DTSTAMP:20260419T133146Z
URL:https://business.kerrvillechamber.biz/events/details/ribbon-cutting-celebrating-schreiner-university-gus-schreiner-dining-hall-chartwells-10-18-2013-1564
END:VEVENT

END:VCALENDAR
