BEGIN:VCALENDAR
VERSION:2.0
PRODID:-//ChamberMaster//Event Calendar 2.0//EN
METHOD:PUBLISH
X-PUBLISHED-TTL:P3D
REFRESH-INTERVAL:P3D
CALSCALE:GREGORIAN
BEGIN:VEVENT
DTSTART:20130828T193000Z
DTEND:20130828T200000Z
X-MICROSOFT-CDO-ALLDAYEVENT:FALSE
SUMMARY:Ribbon Cutting celebrating T-N-J Engraving
DESCRIPTION:Ribbon Cutting celebrating T-N-J Engraving\n\nNew Location!\n\n1500 A Water St.\n\nWednesday\, August 28\, 2:30 pm
X-ALT-DESC;FMTTYPE=text/html:Ribbon Cutting celebrating T-N-J Engraving<br />\nNew Location!<br />\n1500 A Water St.<br />\nWednesday\, August 28\, 2:30 pm
LOCATION:
UID:e.1327.1091
SEQUENCE:3
DTSTAMP:20260419T165050Z
URL:https://business.kerrvillechamber.biz/events/details/ribbon-cutting-celebrating-t-n-j-engraving-08-28-2013-1091
END:VEVENT

END:VCALENDAR
