BEGIN:VCALENDAR
VERSION:2.0
PRODID:-//ChamberMaster//Event Calendar 2.0//EN
METHOD:PUBLISH
X-PUBLISHED-TTL:P3D
REFRESH-INTERVAL:P3D
CALSCALE:GREGORIAN
BEGIN:VEVENT
DTSTART:20130606T153000Z
DTEND:20130606T160000Z
X-MICROSOFT-CDO-ALLDAYEVENT:FALSE
SUMMARY:Ribbon Cutting celebrating Texas Hill Country Cleaning
DESCRIPTION:Ribbon cutting celebrating Texas Hill Country Cleaning
X-ALT-DESC;FMTTYPE=text/html:Ribbon cutting celebrating Texas Hill Country Cleaning<br />\n&nbsp\; &nbsp\;&nbsp\;
LOCATION:Held here at the Chamber 1700 Sidney Baker Ste 100
UID:e.1327.960
SEQUENCE:3
DTSTAMP:20260419T213804Z
URL:https://business.kerrvillechamber.biz/events/details/ribbon-cutting-celebrating-texas-hill-country-cleaning-06-06-2013-960
END:VEVENT

END:VCALENDAR
