BEGIN:VCALENDAR
VERSION:2.0
PRODID:-//ChamberMaster//Event Calendar 2.0//EN
METHOD:PUBLISH
X-PUBLISHED-TTL:P3D
REFRESH-INTERVAL:P3D
CALSCALE:GREGORIAN
BEGIN:VEVENT
DTSTART:20130511T150000Z
DTEND:20130512T033000Z
X-MICROSOFT-CDO-ALLDAYEVENT:FALSE
SUMMARY:Ribbon Cutting Celebrating the Grand Opening of the Gardens at Cafe at the Ridge
DESCRIPTION:Ribbon Cutting Celebrating the Grand Opening of the Gardens at Cafe at the Ridge
X-ALT-DESC;FMTTYPE=text/html:<span style="font-family:arial\;">Ribbon Cutting Celebrating the Grand Opening of the Gardens at Cafe at the Ridge&nbsp\;</span>
LOCATION:13439 S. Ranch Rd. 783 (next to Tiera Linda entrance)
UID:e.1327.939
SEQUENCE:3
DTSTAMP:20260419T213930Z
URL:https://business.kerrvillechamber.biz/events/details/ribbon-cutting-celebrating-the-grand-opening-of-the-gardens-at-cafe-at-the-ridge-05-11-2013-939
END:VEVENT

END:VCALENDAR
