BEGIN:VCALENDAR
VERSION:2.0
PRODID:-//ChamberMaster//Event Calendar 2.0//EN
METHOD:PUBLISH
X-PUBLISHED-TTL:P3D
REFRESH-INTERVAL:P3D
CALSCALE:GREGORIAN
BEGIN:VEVENT
DTSTART:20130910T193000Z
DTEND:20130910T200000Z
X-MICROSOFT-CDO-ALLDAYEVENT:FALSE
SUMMARY:Ribbon Cutting celebrating Wahoo Seafood
DESCRIPTION:Ribbon cutting celebrating Wahoo's Seafood Co.\n\nTuesday\, September 9\, 2:30 pm\n\n305 Francisco Lemos
X-ALT-DESC;FMTTYPE=text/html:Ribbon cutting celebrating Wahoo&#39\;s Seafood Co.<br />\nTuesday\, September 9\, 2:30 pm<br />\n305 Francisco Lemos
LOCATION:
UID:e.1327.1034
SEQUENCE:3
DTSTAMP:20260419T151513Z
URL:https://business.kerrvillechamber.biz/events/details/ribbon-cutting-celebrating-wahoo-seafood-09-10-2013-1034
END:VEVENT

END:VCALENDAR
