BEGIN:VCALENDAR
VERSION:2.0
PRODID:-//ChamberMaster//Event Calendar 2.0//EN
METHOD:PUBLISH
X-PUBLISHED-TTL:P3D
REFRESH-INTERVAL:P3D
CALSCALE:GREGORIAN
BEGIN:VEVENT
DTSTART:20130426T193000Z
DTEND:20130426T200000Z
X-MICROSOFT-CDO-ALLDAYEVENT:FALSE
SUMMARY:Ribbon Cutting- Five Star Rental & Sales\, celebrating 20 years and a new product addition!
DESCRIPTION:Five Star Rental & Sales Ribbon Cutting\n\nCelebrating 20 years of service in the Hill Country AND a new product line\, Kubota Tractors!\n\nNext door to the medina hwy location: 1492 Medina Hwy
X-ALT-DESC;FMTTYPE=text/html:Five Star Rental &amp\; Sales Ribbon Cutting<br />\nCelebrating 20 years of service in the Hill Country AND a new product line\, Kubota Tractors!<br />\nNext door to the medina hwy location: 1492 Medina Hwy
LOCATION:Next door to the Medina Hwy location: 1492 Medina Hwy
UID:e.1327.714
SEQUENCE:3
DTSTAMP:20260419T225603Z
URL:https://business.kerrvillechamber.biz/events/details/ribbon-cutting-five-star-rental-sales-celebrating-20-years-and-a-new-product-addition-04-26-2013-714
END:VEVENT

END:VCALENDAR
