BEGIN:VCALENDAR
VERSION:2.0
PRODID:-//ChamberMaster//Event Calendar 2.0//EN
METHOD:PUBLISH
X-PUBLISHED-TTL:P3D
REFRESH-INTERVAL:P3D
CALSCALE:GREGORIAN
BEGIN:VEVENT
DTSTART:20130816T153000Z
DTEND:20130816T160000Z
X-MICROSOFT-CDO-ALLDAYEVENT:FALSE
SUMMARY:Ribbon Cutting for Carver Road- Stone Carving and Sculpture
DESCRIPTION:Ribbon Cutting for Carver Road- Stone Carving and Sculpture\n\nHeld at the stone sign in front of Unity Church of the Hill Country- 1016 Jefferson St\n\nFriday\, August 16\, 10:30 am
X-ALT-DESC;FMTTYPE=text/html:<strong><span style="font-family:times new roman\,serif\;">Ribbon Cutting for Carver Road- Stone Carving and Sculpture</span></strong><br />\n<strong><span style="font-family:times new roman\,serif\;">Held at the stone sign in front of Unity Church of the Hill Country- 1016 Jefferson St</span></strong><br />\n<strong><span style="font-family:times new roman\,serif\;">Friday\, August 16\, 10:30 am</span></strong><br />\n
LOCATION:
UID:e.1327.1040
SEQUENCE:3
DTSTAMP:20260419T182206Z
URL:https://business.kerrvillechamber.biz/events/details/ribbon-cutting-for-carver-road-stone-carving-and-sculpture-08-16-2013-1040
END:VEVENT

END:VCALENDAR
