BEGIN:VCALENDAR
VERSION:2.0
PRODID:-//ChamberMaster//Event Calendar 2.0//EN
METHOD:PUBLISH
X-PUBLISHED-TTL:P3D
REFRESH-INTERVAL:P3D
CALSCALE:GREGORIAN
BEGIN:VEVENT
DTSTART:20130502T153000Z
DTEND:20130502T160000Z
X-MICROSOFT-CDO-ALLDAYEVENT:FALSE
SUMMARY:Ribbon Cutting for Kerrville Tennis Academy
DESCRIPTION:Ribbon cutting for Kerrville Tennis Academy\n\nThursday May 2nd \,10:30 am\n\n801 Tennis Ave.
X-ALT-DESC;FMTTYPE=text/html:Ribbon cutting for Kerrville Tennis Academy<br />\nThursday May 2nd&nbsp\;\,10:30 am<br />\n801 Tennis Ave.&nbsp\;
LOCATION:
UID:e.1327.933
SEQUENCE:3
DTSTAMP:20260419T215709Z
URL:https://business.kerrvillechamber.biz/events/details/ribbon-cutting-for-kerrville-tennis-academy-05-02-2013-933
END:VEVENT

END:VCALENDAR
