BEGIN:VCALENDAR
VERSION:2.0
PRODID:-//ChamberMaster//Event Calendar 2.0//EN
METHOD:PUBLISH
X-PUBLISHED-TTL:P3D
REFRESH-INTERVAL:P3D
CALSCALE:GREGORIAN
BEGIN:VEVENT
DTSTART:20131007T153000Z
DTEND:20131007T160000Z
X-MICROSOFT-CDO-ALLDAYEVENT:FALSE
SUMMARY:Ribbon Cutting for Peterson Regional Medical Center's Cailloux Professional Building
DESCRIPTION:Ribbon Cutting for Peterson Regional Medical Center's Cailloux Professional Building\n\nMonday\, October 7\, 10:30 am\n\n575 Hill Country Dr.
X-ALT-DESC;FMTTYPE=text/html:<span style="color:#1f497d\;"><span style="font-family:calibri\,sans-serif\;"><span style="font-size:11.0pt\;">Ribbon Cutting for Peterson Regional Medical Center&rsquo\;s Cailloux Professional Building<br />\nMonday\, October 7\, 10:30 am<br />\n575 Hill Country Dr.</span></span></span>
LOCATION:
UID:e.1327.1339
SEQUENCE:3
DTSTAMP:20260419T134223Z
URL:https://business.kerrvillechamber.biz/events/details/ribbon-cutting-for-peterson-regional-medical-center-s-cailloux-professional-building-10-07-2013-1339
END:VEVENT

END:VCALENDAR
